BEGIN:VCALENDAR
VERSION:2.0
PRODID:SchoolNow
CALSCALE:GREGORIAN
BEGIN:VEVENT
UID:c49df966-57dc-11ee-820f-02774828289f
DTSTAMP:20240125T221746Z
SUMMARY:CDD Board Meeting  - February 1\, 2024
LOCATION:Forest Creek Clubhouse - 11685 Old Florida Lane\, Parrish\, FL 342
 19
URL;VALUE=URI:https://www.forestcreekcdd.org/calendar/4766564/cdd-board-mee
 ting-february-1-2024
DTSTART:20240201T180000Z
DTEND:20240201T210000Z
ATTACH;FILENAME=2024-02-01 FC Agenda .pdf;FMTTYPE=application/pdf:https://c
 ampussuite-storage.s3.amazonaws.com/prod/1558968/5742251a-fff5-11e9-a8e4-0
 a793f2f5ecb/2731032/8e0da386-bbcf-11ee-aed6-0a822d98af59/file/2024-02-01 F
 C Agenda .pdf
END:VEVENT
END:VCALENDAR
