BEGIN:VCALENDAR
VERSION:2.0
PRODID:SchoolNow
CALSCALE:GREGORIAN
BEGIN:VEVENT
UID:ce5f02c4-57dc-11ee-80bc-0a58a9feac02
DTSTAMP:20240229T203249Z
SUMMARY:CDD Board Meeting  -March 7\, 2024
LOCATION:Forest Creek Clubhouse - 11685 Old Florida Lane\, Parrish\, FL 342
 19
URL;VALUE=URI:https://www.forestcreekcdd.org/calendar/4766565/cdd-board-mee
 ting-march-7-2024
DTSTART:20240307T230000Z
DTEND:20240308T020000Z
ATTACH;FILENAME=2024-03-07 FC Agenda.pdf;FMTTYPE=application/pdf:https://ca
 mpussuite-storage.s3.amazonaws.com/prod/1558968/5742251a-fff5-11e9-a8e4-0a
 793f2f5ecb/2749751/b0c2a77c-d741-11ee-8ce6-0a58a9feac02/file/2024-03-07 FC
  Agenda.pdf
END:VEVENT
END:VCALENDAR
