BEGIN:VCALENDAR
VERSION:2.0
PRODID:SchoolNow
CALSCALE:GREGORIAN
BEGIN:VEVENT
UID:d9151f28-57dc-11ee-a70c-0a58a9feac02
DTSTAMP:20240328T191242Z
SUMMARY:CDD Board Meeting  - April 4\, 2024
LOCATION:Forest Creek Clubhouse - 11685 Old Florida Lane\, Parrish\, FL 342
 19
URL;VALUE=URI:https://www.forestcreekcdd.org/calendar/4766566/cdd-board-mee
 ting-april-4-2024
DTSTART:20240404T170000Z
DTEND:20240404T200000Z
ATTACH;FILENAME=2024-04-04 FC Agenda.pdf;FMTTYPE=application/pdf:https://ca
 mpussuite-storage.s3.amazonaws.com/prod/1558968/5742251a-fff5-11e9-a8e4-0a
 793f2f5ecb/2764028/22110e72-ed37-11ee-809a-0a58a9feac02/file/2024-04-04 FC
  Agenda.pdf
END:VEVENT
END:VCALENDAR
