BEGIN:VCALENDAR
VERSION:2.0
PRODID:SchoolNow
CALSCALE:GREGORIAN
BEGIN:VEVENT
UID:e6612f0a-57dc-11ee-8a94-0a58a9feac02
DTSTAMP:20240425T211143Z
SUMMARY:CDD Board Meeting  - May 2\, 2024
LOCATION:Forest Creek Clubhouse - 11685 Old Florida Lane\, Parrish\, FL 342
 19
URL;VALUE=URI:https://www.forestcreekcdd.org/calendar/4766567/cdd-board-mee
 ting-may-2-2024
DTSTART:20240502T170000Z
DTEND:20240502T200000Z
ATTACH;FILENAME=2024-05-02  FC Agenda.pdf;FMTTYPE=application/pdf:https://c
 ampussuite-storage.s3.amazonaws.com/prod/1558968/5742251a-fff5-11e9-a8e4-0
 a793f2f5ecb/2776395/67901660-0348-11ef-b0c5-02dfa00ca183/file/2024-05-02  
 FC Agenda.pdf
END:VEVENT
END:VCALENDAR
