BEGIN:VCALENDAR
VERSION:2.0
PRODID:SchoolNow
CALSCALE:GREGORIAN
BEGIN:VEVENT
UID:fde89fb4-57dc-11ee-8dc3-0e6120933f63
DTSTAMP:20240705T194713Z
SUMMARY:CDD Board Meeting  - July 11\, 2024
LOCATION:Forest Creek Clubhouse - 11685 Old Florida Lane\, Parrish\, FL 342
 19
URL;VALUE=URI:https://www.forestcreekcdd.org/calendar/4766569/cdd-board-mee
 ting-july-11-2024
DTSTART:20240711T170000Z
DTEND:20240711T200000Z
ATTACH;FILENAME=2024-07-11 FC  Agenda.pdf;FMTTYPE=application/pdf:https://c
 ampussuite-storage.s3.amazonaws.com/prod/1558968/5742251a-fff5-11e9-a8e4-0
 a793f2f5ecb/2816030/5b751406-3b07-11ef-9888-0affddf12909/file/2024-07-11 F
 C  Agenda.pdf
END:VEVENT
END:VCALENDAR
