BEGIN:VCALENDAR
VERSION:2.0
PRODID:SchoolNow
CALSCALE:GREGORIAN
BEGIN:VEVENT
UID:0e52ba74-57dd-11ee-9b18-0a58a9feac02
DTSTAMP:20240801T204741Z
SUMMARY:CDD Board Meeting  - August 8\, 2024
LOCATION:New Hope Baptist Church\, located at 9422 Old Tampa Road\, Parrish
 \, Florida 34219
URL;VALUE=URI:https://www.forestcreekcdd.org/calendar/4766570/cdd-board-mee
 ting-august-8-2024
DTSTART:20240808T220000Z
DTEND:20240809T010000Z
ATTACH;FILENAME=2024-08-08 FC Agenda.pdf;FMTTYPE=application/pdf:https://ca
 mpussuite-storage.s3.amazonaws.com/prod/1558968/5742251a-fff5-11e9-a8e4-0a
 793f2f5ecb/2824705/4845dadc-5047-11ef-a02a-0a58a9feac02/file/2024-08-08 FC
  Agenda.pdf
END:VEVENT
END:VCALENDAR
