BEGIN:VCALENDAR
VERSION:2.0
PRODID:SchoolNow
CALSCALE:GREGORIAN
BEGIN:VEVENT
UID:2b641f5e-57dd-11ee-87f2-023852d1cdef
DTSTAMP:20240829T203959Z
SUMMARY:CDD Board Meeting  - September 5\, 2024
LOCATION:Forest Creek Clubhouse - 11685 Old Florida Lane\, Parrish\, FL 342
 19
URL;VALUE=URI:https://www.forestcreekcdd.org/calendar/4766571/cdd-board-mee
 ting-september-5-2024
DTSTART:20240905T170000Z
DTEND:20240905T200000Z
ATTACH;FILENAME=2024-09-05 FC Agenda _WEW.pdf;FMTTYPE=application/pdf:https
 ://campussuite-storage.s3.amazonaws.com/prod/1558968/5742251a-fff5-11e9-a8
 e4-0a793f2f5ecb/2839880/d856c6b2-6646-11ef-997a-0a58a9feac02/file/2024-09-
 05 FC Agenda _WEW.pdf
END:VEVENT
END:VCALENDAR
