BEGIN:VCALENDAR
VERSION:2.0
PRODID:SchoolNow
CALSCALE:GREGORIAN
BEGIN:VEVENT
UID:ab13e202-611f-11ee-89ac-0ac5ad864e25
DTSTAMP:20231002T123153Z
SUMMARY:Book Club Meeting - February 2024
LOCATION:Forest Creek Clubhouse - 11685 Old Florida Lane\, Parrish\, FL 342
 19
URL;VALUE=URI:https://www.forestcreekcdd.org/calendar/4820677/book-club-mee
 ting-february-2024
DTSTART:20240202T000000Z
DTEND:20240202T010000Z
END:VEVENT
END:VCALENDAR
