BEGIN:VCALENDAR
VERSION:2.0
PRODID:SchoolNow
CALSCALE:GREGORIAN
BEGIN:VEVENT
UID:c0836d7e-611f-11ee-9f4a-0a58a9feac02
DTSTAMP:20231002T123229Z
SUMMARY:Book Club Meeting - April 2024
LOCATION:Forest Creek Clubhouse - 11685 Old Florida Lane\, Parrish\, FL 342
 19
URL;VALUE=URI:https://www.forestcreekcdd.org/calendar/4820679/book-club-mee
 ting-april-2024
DTSTART:20240404T230000Z
DTEND:20240405T000000Z
END:VEVENT
END:VCALENDAR
