BEGIN:VCALENDAR
VERSION:2.0
PRODID:SchoolNow
CALSCALE:GREGORIAN
BEGIN:VEVENT
UID:caa968a8-611f-11ee-a6ec-0a58a9feac02
DTSTAMP:20231002T123246Z
SUMMARY:Book Club Meeting - May 2024
LOCATION:Forest Creek Clubhouse - 11685 Old Florida Lane\, Parrish\, FL 342
 19
URL;VALUE=URI:https://www.forestcreekcdd.org/calendar/4820680/book-club-mee
 ting-may-2024
DTSTART:20240502T230000Z
DTEND:20240503T000000Z
END:VEVENT
END:VCALENDAR
