BEGIN:VCALENDAR
VERSION:2.0
PRODID:SchoolNow
CALSCALE:GREGORIAN
BEGIN:VEVENT
UID:d4c04212-611f-11ee-8fbe-0ac5ad864e25
DTSTAMP:20231002T123303Z
SUMMARY:Book Club Meeting - June 2024
LOCATION:Forest Creek Clubhouse - 11685 Old Florida Lane\, Parrish\, FL 342
 19
URL;VALUE=URI:https://www.forestcreekcdd.org/calendar/4820681/book-club-mee
 ting-june-2024
DTSTART:20240606T230000Z
DTEND:20240607T000000Z
END:VEVENT
END:VCALENDAR
