BEGIN:VCALENDAR
VERSION:2.0
PRODID:SchoolNow
CALSCALE:GREGORIAN
BEGIN:VEVENT
UID:ecfd97d0-611f-11ee-a597-0a58a9feac02
DTSTAMP:20231002T123344Z
SUMMARY:Book Club Meeting - August 2024
LOCATION:Forest Creek Clubhouse - 11685 Old Florida Lane\, Parrish\, FL 342
 19
URL;VALUE=URI:https://www.forestcreekcdd.org/calendar/4820683/book-club-mee
 ting-august-2024
DTSTART:20240801T230000Z
DTEND:20240802T000000Z
END:VEVENT
END:VCALENDAR
