BEGIN:VCALENDAR
VERSION:2.0
PRODID:SchoolNow
CALSCALE:GREGORIAN
BEGIN:VEVENT
UID:f9d3edb0-611f-11ee-903b-0a58a9feac02
DTSTAMP:20231002T123405Z
SUMMARY:Book Club Meeting - September 2024
LOCATION:Forest Creek Clubhouse - 11685 Old Florida Lane\, Parrish\, FL 342
 19
URL;VALUE=URI:https://www.forestcreekcdd.org/calendar/4820684/book-club-mee
 ting-september-2024
DTSTART:20240905T230000Z
DTEND:20240906T000000Z
END:VEVENT
END:VCALENDAR
