BEGIN:VCALENDAR
VERSION:2.0
PRODID:SchoolNow
CALSCALE:GREGORIAN
BEGIN:VEVENT
UID:7d8a1e34-6226-11ee-8214-0a58a9feac02
DTSTAMP:20231003T195314Z
SUMMARY:Mahjong - Feb. 13th\, 2024
LOCATION:Clubhouse
URL;VALUE=URI:https://www.forestcreekcdd.org/calendar/4827662/mahjong-feb-1
 3th-2024
DTSTART:20240214T000000Z
DTEND:20240214T020000Z
END:VEVENT
END:VCALENDAR
