BEGIN:VCALENDAR
VERSION:2.0
PRODID:SchoolNow
CALSCALE:GREGORIAN
BEGIN:VEVENT
UID:8d5af52c-6226-11ee-9e8c-0e054e7646b7
DTSTAMP:20240125T185824Z
SUMMARY:Mahjong - Feb. 27th\, 2024
LOCATION:Clubhouse
URL;VALUE=URI:https://www.forestcreekcdd.org/calendar/4827674/mahjong-feb-2
 7th-2024
DTSTART:20240228T000000Z
DTEND:20240228T020000Z
END:VEVENT
END:VCALENDAR
