BEGIN:VCALENDAR
VERSION:2.0
PRODID:SchoolNow
CALSCALE:GREGORIAN
BEGIN:VEVENT
UID:a27d5d00-6226-11ee-9764-02a47dd764a3
DTSTAMP:20231003T195416Z
SUMMARY:Mahjong - Mar. 12th\, 2024
LOCATION:Clubhouse
URL;VALUE=URI:https://www.forestcreekcdd.org/calendar/4827676/mahjong-mar-1
 2th-2024
DTSTART:20240312T230000Z
DTEND:20240313T010000Z
END:VEVENT
END:VCALENDAR
