BEGIN:VCALENDAR
VERSION:2.0
PRODID:SchoolNow
CALSCALE:GREGORIAN
BEGIN:VEVENT
UID:b3530a3a-6226-11ee-956d-0a58a9feac02
DTSTAMP:20231003T195445Z
SUMMARY:Mahjong - Mar. 26th\, 2024
LOCATION:Clubhouse
URL;VALUE=URI:https://www.forestcreekcdd.org/calendar/4827678/mahjong-mar-2
 6th-2024
DTSTART:20240326T230000Z
DTEND:20240327T010000Z
END:VEVENT
END:VCALENDAR
