BEGIN:VCALENDAR
VERSION:2.0
PRODID:SchoolNow
CALSCALE:GREGORIAN
BEGIN:VEVENT
UID:cdc47156-6226-11ee-9883-0ac5ad864e25
DTSTAMP:20231003T195529Z
SUMMARY:Mahjong - Apr. 9th\, 2024
LOCATION:Clubhouse
URL;VALUE=URI:https://www.forestcreekcdd.org/calendar/4827680/mahjong-apr-9
 th-2024
DTSTART:20240409T230000Z
DTEND:20240410T010000Z
END:VEVENT
END:VCALENDAR
