BEGIN:VCALENDAR
VERSION:2.0
PRODID:SchoolNow
CALSCALE:GREGORIAN
BEGIN:VEVENT
UID:e121e8be-6226-11ee-af61-020ff1d80a27
DTSTAMP:20231003T195602Z
SUMMARY:Mahjong - Apr. 23rd\, 2024
LOCATION:Clubhouse
URL;VALUE=URI:https://www.forestcreekcdd.org/calendar/4827682/mahjong-apr-2
 3rd-2024
DTSTART:20240423T230000Z
DTEND:20240424T010000Z
END:VEVENT
END:VCALENDAR
