BEGIN:VCALENDAR
VERSION:2.0
PRODID:SchoolNow
CALSCALE:GREGORIAN
BEGIN:VEVENT
UID:036b172e-6227-11ee-9173-0a58a9feac02
DTSTAMP:20231003T195659Z
SUMMARY:Mahjong - May 14th\, 2024
LOCATION:Clubhouse
URL;VALUE=URI:https://www.forestcreekcdd.org/calendar/4827686/mahjong-may-1
 4th-2024
DTSTART:20240514T230000Z
DTEND:20240515T010000Z
END:VEVENT
END:VCALENDAR
