BEGIN:VCALENDAR
VERSION:2.0
PRODID:SchoolNow
CALSCALE:GREGORIAN
BEGIN:VEVENT
UID:172f4f64-6227-11ee-a56f-0a58a9feac02
DTSTAMP:20231003T195732Z
SUMMARY:Mahjong - May 28th\, 2024
LOCATION:Clubhouse
URL;VALUE=URI:https://www.forestcreekcdd.org/calendar/4827688/mahjong-may-2
 8th-2024
DTSTART:20240528T230000Z
DTEND:20240529T010000Z
END:VEVENT
END:VCALENDAR
