BEGIN:VCALENDAR
VERSION:2.0
PRODID:SchoolNow
CALSCALE:GREGORIAN
BEGIN:VEVENT
UID:2fefb8a4-6227-11ee-ab01-0a58a9feac02
DTSTAMP:20231003T195814Z
SUMMARY:Mahjong - Jun. 11th\, 2024
LOCATION:Clubhouse
URL;VALUE=URI:https://www.forestcreekcdd.org/calendar/4827691/mahjong-jun-1
 1th-2024
DTSTART:20240611T230000Z
DTEND:20240612T010000Z
END:VEVENT
END:VCALENDAR
