BEGIN:VCALENDAR
VERSION:2.0
PRODID:SchoolNow
CALSCALE:GREGORIAN
BEGIN:VEVENT
UID:41d24b0e-6227-11ee-8646-0e21c6c8db91
DTSTAMP:20231003T195844Z
SUMMARY:Mahjong - Jun. 25th\, 2024
LOCATION:Clubhouse
URL;VALUE=URI:https://www.forestcreekcdd.org/calendar/4827693/mahjong-jun-2
 5th-2024
DTSTART:20240625T230000Z
DTEND:20240626T010000Z
END:VEVENT
END:VCALENDAR
