BEGIN:VCALENDAR
VERSION:2.0
PRODID:SchoolNow
CALSCALE:GREGORIAN
BEGIN:VEVENT
UID:5a9226e6-6227-11ee-a8d8-0a58a9feac02
DTSTAMP:20231003T195925Z
SUMMARY:Mahjong - Jul. 9th\, 2024
LOCATION:Clubhouse
URL;VALUE=URI:https://www.forestcreekcdd.org/calendar/4827695/mahjong-jul-9
 th-2024
DTSTART:20240709T230000Z
DTEND:20240710T010000Z
END:VEVENT
END:VCALENDAR
