BEGIN:VCALENDAR
VERSION:2.0
PRODID:SchoolNow
CALSCALE:GREGORIAN
BEGIN:VEVENT
UID:6c65f78a-6227-11ee-84e2-0a58a9feac02
DTSTAMP:20231003T195955Z
SUMMARY:Mahjong - Jul. 23rd\, 2024
LOCATION:Clubhouse
URL;VALUE=URI:https://www.forestcreekcdd.org/calendar/4827697/mahjong-jul-2
 3rd-2024
DTSTART:20240723T230000Z
DTEND:20240724T010000Z
END:VEVENT
END:VCALENDAR
