BEGIN:VCALENDAR
VERSION:2.0
PRODID:SchoolNow
CALSCALE:GREGORIAN
BEGIN:VEVENT
UID:91ed9972-6227-11ee-aefd-0a58a9feac02
DTSTAMP:20231003T200058Z
SUMMARY:Mahjong - Aug. 13th\, 2024
LOCATION:Clubhouse
URL;VALUE=URI:https://www.forestcreekcdd.org/calendar/4827700/mahjong-aug-1
 3th-2024
DTSTART:20240813T230000Z
DTEND:20240814T010000Z
END:VEVENT
END:VCALENDAR
