BEGIN:VCALENDAR
VERSION:2.0
PRODID:SchoolNow
CALSCALE:GREGORIAN
BEGIN:VEVENT
UID:c3b95086-6227-11ee-90eb-020ff1d80a27
DTSTAMP:20240823T180243Z
SUMMARY:Mahjong - Sept. 10th\, 2024
LOCATION:Clubhouse
URL;VALUE=URI:https://www.forestcreekcdd.org/calendar/4827704/mahjong-sept-
 10th-2024
DTSTART:20240910T223000Z
DTEND:20240911T003000Z
END:VEVENT
END:VCALENDAR
