BEGIN:VCALENDAR
VERSION:2.0
PRODID:SchoolNow
CALSCALE:GREGORIAN
BEGIN:VEVENT
UID:dab4c5ea-6227-11ee-a6b1-0a58a9feac02
DTSTAMP:20231003T200300Z
SUMMARY:Mahjong - Sept. 24th\, 2024
LOCATION:Clubhouse
URL;VALUE=URI:https://www.forestcreekcdd.org/calendar/4827706/mahjong-sept-
 24th-2024
DTSTART:20240924T230000Z
DTEND:20240925T010000Z
END:VEVENT
END:VCALENDAR
