BEGIN:VCALENDAR
VERSION:2.0
PRODID:SchoolNow
CALSCALE:GREGORIAN
BEGIN:VEVENT
UID:fd4c19dc-6858-11ee-8876-0a58a9feac02
DTSTAMP:20240823T180419Z
SUMMARY:Mahjong - Oct. 8th\, 2024
LOCATION:Clubhouse
URL;VALUE=URI:https://www.forestcreekcdd.org/calendar/4854838/mahjong-oct-8
 th-2024
DTSTART:20241008T223000Z
DTEND:20241009T003000Z
END:VEVENT
END:VCALENDAR
