BEGIN:VCALENDAR
VERSION:2.0
PRODID:SchoolNow
CALSCALE:GREGORIAN
BEGIN:VEVENT
UID:0822704a-6859-11ee-9e9d-0a58a9feac02
DTSTAMP:20240823T180449Z
SUMMARY:Mahjong - Oct. 22nd\, 2024
LOCATION:Clubhouse
URL;VALUE=URI:https://www.forestcreekcdd.org/calendar/4854839/mahjong-oct-2
 2nd-2024
DTSTART:20241022T223000Z
DTEND:20241023T003000Z
END:VEVENT
END:VCALENDAR
