BEGIN:VCALENDAR
VERSION:2.0
PRODID:SchoolNow
CALSCALE:GREGORIAN
BEGIN:VEVENT
UID:151cdfe0-8d4a-11ee-a902-0e35975cf25b
DTSTAMP:20240314T152125Z
SUMMARY:Private Event - Jun. 8th
URL;VALUE=URI:https://www.forestcreekcdd.org/calendar/4970020/private-event
 -jun-8th
DTSTART:20240608T160000Z
DTEND:20240608T210000Z
END:VEVENT
END:VCALENDAR
