BEGIN:VCALENDAR
VERSION:2.0
PRODID:SchoolNow
CALSCALE:GREGORIAN
BEGIN:VEVENT
UID:549fc8e0-ae46-11ee-abdf-0ac53249629f
DTSTAMP:20240205T210117Z
SUMMARY:Private Event - Feb. 10th
URL;VALUE=URI:https://www.forestcreekcdd.org/calendar/5123341/private-event
 -feb-10th
DTSTART:20240210T180000Z
DTEND:20240210T230000Z
END:VEVENT
END:VCALENDAR
