BEGIN:VCALENDAR
VERSION:2.0
PRODID:SchoolNow
CALSCALE:GREGORIAN
BEGIN:VEVENT
UID:d2bff1d4-b538-11ee-9f20-0a58a9feac02
DTSTAMP:20240117T130335Z
SUMMARY:Private Event - Feb. 9th
URL;VALUE=URI:https://www.forestcreekcdd.org/calendar/5168594/private-event
 -feb-9th
DTSTART:20240209T220000Z
DTEND:20240210T010000Z
END:VEVENT
END:VCALENDAR
