BEGIN:VCALENDAR
VERSION:2.0
PRODID:SchoolNow
CALSCALE:GREGORIAN
BEGIN:VEVENT
UID:16bf7928-ba15-11ee-9c64-0a58a9feac02
DTSTAMP:20240123T173023Z
SUMMARY:Community Task Force Meeting
URL;VALUE=URI:https://www.forestcreekcdd.org/calendar/5198557/community-tas
 k-force-meeting
DTSTART:20240213T220000Z
DTEND:20240213T230000Z
END:VEVENT
END:VCALENDAR
