BEGIN:VCALENDAR
VERSION:2.0
PRODID:SchoolNow
CALSCALE:GREGORIAN
BEGIN:VEVENT
UID:9b07d32a-bbb3-11ee-90b1-02d28e9cebaf
DTSTAMP:20240125T185736Z
SUMMARY:Mahjong - Feb. 20th\, 2024
LOCATION:Clubhouse
URL;VALUE=URI:https://www.forestcreekcdd.org/calendar/5207992/mahjong-feb-2
 0th-2024
DTSTART:20240221T000000Z
DTEND:20240221T020000Z
END:VEVENT
END:VCALENDAR
