BEGIN:VCALENDAR
VERSION:2.0
PRODID:SchoolNow
CALSCALE:GREGORIAN
BEGIN:VEVENT
UID:ac5b44a4-bbb3-11ee-8753-0a58a9feac02
DTSTAMP:20240125T185806Z
SUMMARY:Mahjong - Mar. 5th\, 2024
LOCATION:Clubhouse
URL;VALUE=URI:https://www.forestcreekcdd.org/calendar/5207994/mahjong-mar-5
 th-2024
DTSTART:20240306T000000Z
DTEND:20240306T020000Z
END:VEVENT
END:VCALENDAR
