BEGIN:VCALENDAR
VERSION:2.0
PRODID:SchoolNow
CALSCALE:GREGORIAN
BEGIN:VEVENT
UID:c28c7108-bbb3-11ee-9ee2-02d28e9cebaf
DTSTAMP:20240125T185843Z
SUMMARY:Mahjong - Mar. 19th\, 2024
LOCATION:Clubhouse
URL;VALUE=URI:https://www.forestcreekcdd.org/calendar/5207995/mahjong-mar-1
 9th-2024
DTSTART:20240319T230000Z
DTEND:20240320T010000Z
END:VEVENT
END:VCALENDAR
