BEGIN:VCALENDAR
VERSION:2.0
PRODID:SchoolNow
CALSCALE:GREGORIAN
BEGIN:VEVENT
UID:d266f63e-bbb3-11ee-b356-0a7c3638e6d3
DTSTAMP:20240125T185909Z
SUMMARY:Mahjong - Apr. 2nd\, 2024
LOCATION:Clubhouse
URL;VALUE=URI:https://www.forestcreekcdd.org/calendar/5207996/mahjong-apr-2
 nd-2024
DTSTART:20240402T230000Z
DTEND:20240403T010000Z
END:VEVENT
END:VCALENDAR
