BEGIN:VCALENDAR
VERSION:2.0
PRODID:SchoolNow
CALSCALE:GREGORIAN
BEGIN:VEVENT
UID:dd7fa048-bbb3-11ee-80c8-02cf6acdefa3
DTSTAMP:20240125T185928Z
SUMMARY:Mahjong - Apr. 16th\, 2024
LOCATION:Clubhouse
URL;VALUE=URI:https://www.forestcreekcdd.org/calendar/5207997/mahjong-apr-1
 6th-2024
DTSTART:20240416T230000Z
DTEND:20240417T010000Z
END:VEVENT
END:VCALENDAR
