BEGIN:VCALENDAR
VERSION:2.0
PRODID:SchoolNow
CALSCALE:GREGORIAN
BEGIN:VEVENT
UID:e9925dd0-bbb3-11ee-a80e-0a58a9feac02
DTSTAMP:20240125T185948Z
SUMMARY:Mahjong - Apr. 30th\, 2024
LOCATION:Clubhouse
URL;VALUE=URI:https://www.forestcreekcdd.org/calendar/5207998/mahjong-apr-3
 0th-2024
DTSTART:20240430T230000Z
DTEND:20240501T010000Z
END:VEVENT
END:VCALENDAR
