BEGIN:VCALENDAR
VERSION:2.0
PRODID:SchoolNow
CALSCALE:GREGORIAN
BEGIN:VEVENT
UID:fd82d1c6-bbb3-11ee-91d8-02cf6acdefa3
DTSTAMP:20240125T190022Z
SUMMARY:Mahjong - May 7th\, 2024
LOCATION:Clubhouse
URL;VALUE=URI:https://www.forestcreekcdd.org/calendar/5207999/mahjong-may-7
 th-2024
DTSTART:20240507T230000Z
DTEND:20240508T010000Z
END:VEVENT
END:VCALENDAR
