BEGIN:VCALENDAR
VERSION:2.0
PRODID:SchoolNow
CALSCALE:GREGORIAN
BEGIN:VEVENT
UID:08c2eab2-bbb4-11ee-9f8a-0a58a9feac02
DTSTAMP:20240125T190041Z
SUMMARY:Mahjong - May 21st\, 2024
LOCATION:Clubhouse
URL;VALUE=URI:https://www.forestcreekcdd.org/calendar/5208000/mahjong-may-2
 1st-2024
DTSTART:20240521T230000Z
DTEND:20240522T010000Z
END:VEVENT
END:VCALENDAR
