BEGIN:VCALENDAR
VERSION:2.0
PRODID:SchoolNow
CALSCALE:GREGORIAN
BEGIN:VEVENT
UID:19e3c17c-bbb4-11ee-955d-0efca7479bb7
DTSTAMP:20240125T190109Z
SUMMARY:Mahjong - Jun. 4th\, 2024
LOCATION:Clubhouse
URL;VALUE=URI:https://www.forestcreekcdd.org/calendar/5208002/mahjong-jun-4
 th-2024
DTSTART:20240604T230000Z
DTEND:20240605T010000Z
END:VEVENT
END:VCALENDAR
