BEGIN:VCALENDAR
VERSION:2.0
PRODID:SchoolNow
CALSCALE:GREGORIAN
BEGIN:VEVENT
UID:30ffa7b8-bbb4-11ee-af98-0a58a9feac02
DTSTAMP:20240125T190148Z
SUMMARY:Mahjong - Jul. 16th\, 2024
LOCATION:Clubhouse
URL;VALUE=URI:https://www.forestcreekcdd.org/calendar/5208003/mahjong-jul-1
 6th-2024
DTSTART:20240716T230000Z
DTEND:20240717T010000Z
END:VEVENT
END:VCALENDAR
