BEGIN:VCALENDAR
VERSION:2.0
PRODID:SchoolNow
CALSCALE:GREGORIAN
BEGIN:VEVENT
UID:7c38dd08-bbb4-11ee-8748-0a58a9feac02
DTSTAMP:20241230T135148Z
SUMMARY:Mahjong - Jul. 30th\, 2024
LOCATION:Clubhouse
URL;VALUE=URI:https://www.forestcreekcdd.org/calendar/5208009/mahjong-jul-3
 0th-2024
DTSTART:20240730T230000Z
DTEND:20240731T010000Z
END:VEVENT
END:VCALENDAR
