BEGIN:VCALENDAR
VERSION:2.0
PRODID:SchoolNow
CALSCALE:GREGORIAN
BEGIN:VEVENT
UID:95fc13e0-bbb4-11ee-b967-0a58a9feac02
DTSTAMP:20240125T190437Z
SUMMARY:Mahjong - Aug. 20th\, 2024
LOCATION:Clubhouse
URL;VALUE=URI:https://www.forestcreekcdd.org/calendar/5208011/mahjong-aug-2
 0th-2024
DTSTART:20240820T230000Z
DTEND:20240821T010000Z
END:VEVENT
END:VCALENDAR
