BEGIN:VCALENDAR
VERSION:2.0
PRODID:SchoolNow
CALSCALE:GREGORIAN
BEGIN:VEVENT
UID:a3c2e68e-bbb4-11ee-bb4b-0a58a9feac02
DTSTAMP:20240823T180206Z
SUMMARY:Mahjong - Sept. 3rd\, 2024
LOCATION:Clubhouse
URL;VALUE=URI:https://www.forestcreekcdd.org/calendar/5208012/mahjong-sept-
 3rd-2024
DTSTART:20240903T223000Z
DTEND:20240904T003000Z
END:VEVENT
END:VCALENDAR
