BEGIN:VCALENDAR
VERSION:2.0
PRODID:SchoolNow
CALSCALE:GREGORIAN
BEGIN:VEVENT
UID:b0dae01a-bbb4-11ee-bb28-0a7c3638e6d3
DTSTAMP:20240823T180303Z
SUMMARY:Mahjong - Sept. 17th\, 2024
LOCATION:Clubhouse
URL;VALUE=URI:https://www.forestcreekcdd.org/calendar/5208013/mahjong-sept-
 17th-2024
DTSTART:20240917T223000Z
DTEND:20240918T003000Z
END:VEVENT
END:VCALENDAR
