BEGIN:VCALENDAR
VERSION:2.0
PRODID:SchoolNow
CALSCALE:GREGORIAN
BEGIN:VEVENT
UID:c577909a-bbb4-11ee-b1d1-0a863e7358d7
DTSTAMP:20240823T180409Z
SUMMARY:Mahjong - Oct. 1st\, 2024
LOCATION:Clubhouse
URL;VALUE=URI:https://www.forestcreekcdd.org/calendar/5208014/mahjong-oct-1
 st-2024
DTSTART:20241001T223000Z
DTEND:20241002T003000Z
END:VEVENT
END:VCALENDAR
