BEGIN:VCALENDAR
VERSION:2.0
PRODID:SchoolNow
CALSCALE:GREGORIAN
BEGIN:VEVENT
UID:d2f5a07c-bbb4-11ee-a743-02cf6acdefa3
DTSTAMP:20240823T180431Z
SUMMARY:Mahjong - Oct. 15th\, 2024
LOCATION:Clubhouse
URL;VALUE=URI:https://www.forestcreekcdd.org/calendar/5208015/mahjong-oct-1
 5th-2024
DTSTART:20241015T223000Z
DTEND:20241016T003000Z
END:VEVENT
END:VCALENDAR
